BEGIN:VCALENDAR
VERSION:2.0
PRODID:-// - ECPv6.15.20//NONSGML v1.0//EN
CALSCALE:GREGORIAN
METHOD:PUBLISH
X-ORIGINAL-URL:https://www.tallitydrukud.ee
X-WR-CALDESC:Events for 
REFRESH-INTERVAL;VALUE=DURATION:PT1H
X-Robots-Tag:noindex
X-PUBLISHED-TTL:PT1H
BEGIN:VTIMEZONE
TZID:Europe/Helsinki
BEGIN:DAYLIGHT
TZOFFSETFROM:+0200
TZOFFSETTO:+0300
TZNAME:EEST
DTSTART:20230326T010000
END:DAYLIGHT
BEGIN:STANDARD
TZOFFSETFROM:+0300
TZOFFSETTO:+0200
TZNAME:EET
DTSTART:20231029T010000
END:STANDARD
BEGIN:DAYLIGHT
TZOFFSETFROM:+0200
TZOFFSETTO:+0300
TZNAME:EEST
DTSTART:20240331T010000
END:DAYLIGHT
BEGIN:STANDARD
TZOFFSETFROM:+0300
TZOFFSETTO:+0200
TZNAME:EET
DTSTART:20241027T010000
END:STANDARD
BEGIN:DAYLIGHT
TZOFFSETFROM:+0200
TZOFFSETTO:+0300
TZNAME:EEST
DTSTART:20250330T010000
END:DAYLIGHT
BEGIN:STANDARD
TZOFFSETFROM:+0300
TZOFFSETTO:+0200
TZNAME:EET
DTSTART:20251026T010000
END:STANDARD
END:VTIMEZONE
BEGIN:VEVENT
DTSTART;TZID=Europe/Helsinki:20240510T190000
DTEND;TZID=Europe/Helsinki:20240510T210000
DTSTAMP:20260423T113756
CREATED:20240328T104035Z
LAST-MODIFIED:20240429T171639Z
UID:1432-1715367600-1715374800@www.tallitydrukud.ee
SUMMARY:Saviring Tusaris
DESCRIPTION:Tule tee näpud saviseks saviringis!\nOodatud on nii algajad kui ka need\, kes on saviga juba varasemalt kokku puutunud.\n\nPane end kirja siin!
URL:https://www.tallitydrukud.ee/syndmus/saviring-tusaris-6/
LOCATION:Saviring\, Mardi\, Tusari küla\, Lääne-Nigula vald\, Läänemaa\, 91112\, Eesti
CATEGORIES:Saviring
ATTACH;FMTTYPE=image/jpeg:https://tallitydrukud.ee/wp-content/uploads/2024/03/kairit_keraamika_saviring.jpg
ORGANIZER;CN="Kairit Errit":MAILTO:info@kairitkeraamika.ee
END:VEVENT
BEGIN:VEVENT
DTSTART;TZID=Europe/Helsinki:20240504T140000
DTEND;TZID=Europe/Helsinki:20240504T170000
DTSTAMP:20260423T113756
CREATED:20240414T061508Z
LAST-MODIFIED:20240414T061517Z
UID:1554-1714831200-1714842000@www.tallitydrukud.ee
SUMMARY:Kevadlaat ja rohevahetus Nõva kogudusemaja juures
DESCRIPTION:Maikuu on looduskuu ja NordEstNõva ja Nõva kogudus kutsuvad kõiki aiahuvilisi rohevahetust tegema. Kui sul on aianurgas mõni liigne nartsissi\, tulbi või pojengipõõsas\, siis too need aarded kaasa! \nVaata\, kas keldririiulil või kartulisalves on seda\, mida teistega jagada\, vahetada või millega veidi kaubelda! Kõik kila-kola on oodatud\, ka aiatööriistad või liigsed muruniidukid\, saed\, käärid – sõnaga kõik\, mis vähegi kevadist fantaasialendu toetab! \nTule vaatama\, ootame \nMeie võtame kaasa vaase kevadlilledele ja ka lillekaste suvelilledele! \nÜrituse FB evendi leiad siit!
URL:https://www.tallitydrukud.ee/syndmus/kevadlaat-ja-rohevahetus-nova-kogudusemaja-juures/
LOCATION:Läänemaa
CATEGORIES:Laat
ATTACH;FMTTYPE=image/jpeg:https://tallitydrukud.ee/wp-content/uploads/2024/04/nova-kevadlaat.jpg
END:VEVENT
BEGIN:VEVENT
DTSTART;TZID=Europe/Helsinki:20240429T180000
DTEND;TZID=Europe/Helsinki:20240429T200000
DTSTAMP:20260423T113756
CREATED:20240328T103910Z
LAST-MODIFIED:20240429T085843Z
UID:1430-1714413600-1714420800@www.tallitydrukud.ee
SUMMARY:Saviring Tusaris
DESCRIPTION:Tule tee näpud saviseks saviringis!\nOodatud on nii algajad kui ka need\, kes on saviga juba varasemalt kokku puutunud. \nPane end kirja siin!
URL:https://www.tallitydrukud.ee/syndmus/saviring-tusaris-5/
LOCATION:Saviring\, Mardi\, Tusari küla\, Lääne-Nigula vald\, Läänemaa\, 91112\, Eesti
CATEGORIES:Saviring
ATTACH;FMTTYPE=image/jpeg:https://tallitydrukud.ee/wp-content/uploads/2024/03/kairit_keraamika_saviring.jpg
ORGANIZER;CN="Kairit Errit":MAILTO:info@kairitkeraamika.ee
END:VEVENT
BEGIN:VEVENT
DTSTART;TZID=Europe/Helsinki:20240428T120000
DTEND;TZID=Europe/Helsinki:20240428T140000
DTSTAMP:20260423T113756
CREATED:20240328T103731Z
LAST-MODIFIED:20240328T103731Z
UID:1428-1714305600-1714312800@www.tallitydrukud.ee
SUMMARY:Saviring Tusaris
DESCRIPTION:Tule tee näpud saviseks saviringis!\nOodatud on nii algajad kui ka need\, kes on saviga juba varasemalt kokku puutunud.\n\nPane end kirja siin!
URL:https://www.tallitydrukud.ee/syndmus/saviring-tusaris-4/
LOCATION:Saviring\, Mardi\, Tusari küla\, Lääne-Nigula vald\, Läänemaa\, 91112\, Eesti
CATEGORIES:Saviring
ATTACH;FMTTYPE=image/jpeg:https://tallitydrukud.ee/wp-content/uploads/2024/03/kairit_keraamika_saviring.jpg
ORGANIZER;CN="Kairit Errit":MAILTO:info@kairitkeraamika.ee
END:VEVENT
BEGIN:VEVENT
DTSTART;TZID=Europe/Helsinki:20240415T180000
DTEND;TZID=Europe/Helsinki:20240415T200000
DTSTAMP:20260423T113756
CREATED:20240322T192208Z
LAST-MODIFIED:20240328T102824Z
UID:1380-1713204000-1713211200@www.tallitydrukud.ee
SUMMARY:Saviring Tusaris
DESCRIPTION:Tule tee näpud saviseks saviringis!\nOodatud on nii algajad kui ka need\, kes on saviga juba varasemalt kokku puutunud.\n\nPane end kirja siin!
URL:https://www.tallitydrukud.ee/syndmus/saviring/
LOCATION:Saviring\, Mardi\, Tusari küla\, Lääne-Nigula vald\, Läänemaa\, 91112\, Eesti
CATEGORIES:Saviring
ATTACH;FMTTYPE=image/jpeg:https://tallitydrukud.ee/wp-content/uploads/2024/03/kairit_keraamika_saviring.jpg
ORGANIZER;CN="Kairit Errit":MAILTO:info@kairitkeraamika.ee
END:VEVENT
BEGIN:VEVENT
DTSTART;TZID=Europe/Helsinki:20240414T120000
DTEND;TZID=Europe/Helsinki:20240414T140000
DTSTAMP:20260423T113756
CREATED:20240323T081200Z
LAST-MODIFIED:20240323T081200Z
UID:1410-1713096000-1713103200@www.tallitydrukud.ee
SUMMARY:Saviring Tusaris
DESCRIPTION:Tule tee näpud saviseks saviringis!\nOodatud on nii algajad kui ka need\, kes on saviga juba varasemalt kokku puutunud. \nPane end kirja siin! \n 
URL:https://www.tallitydrukud.ee/syndmus/saviring-tusaris-2/
LOCATION:Saviring\, Mardi\, Tusari küla\, Lääne-Nigula vald\, Läänemaa\, 91112\, Eesti
CATEGORIES:Saviring
ATTACH;FMTTYPE=image/jpeg:https://tallitydrukud.ee/wp-content/uploads/2024/03/kairit_keraamika_saviring.jpg
ORGANIZER;CN="Kairit Errit":MAILTO:info@kairitkeraamika.ee
END:VEVENT
BEGIN:VEVENT
DTSTART;TZID=Europe/Helsinki:20240402T180000
DTEND;TZID=Europe/Helsinki:20240402T200000
DTSTAMP:20260423T113756
CREATED:20240323T080055Z
LAST-MODIFIED:20240323T081256Z
UID:1401-1712080800-1712088000@www.tallitydrukud.ee
SUMMARY:Saviring Tusaris
DESCRIPTION:Tule tee näpud saviseks saviringis!\nOodatud on nii algajad kui ka need\, kes on saviga juba varasemalt kokku puutunud. \nPane end kirja siin!
URL:https://www.tallitydrukud.ee/syndmus/saviring-tusaris/
LOCATION:Saviring\, Mardi\, Tusari küla\, Lääne-Nigula vald\, Läänemaa\, 91112\, Eesti
CATEGORIES:Saviring
ATTACH;FMTTYPE=image/jpeg:https://tallitydrukud.ee/wp-content/uploads/2024/03/kairit_keraamika_saviring.jpg
ORGANIZER;CN="Kairit Errit":MAILTO:info@kairitkeraamika.ee
END:VEVENT
BEGIN:VEVENT
DTSTART;TZID=Europe/Helsinki:20240331T120000
DTEND;TZID=Europe/Helsinki:20240331T140000
DTSTAMP:20260423T113756
CREATED:20240328T103411Z
LAST-MODIFIED:20240328T103437Z
UID:1425-1711886400-1711893600@www.tallitydrukud.ee
SUMMARY:Saviring Tusaris
DESCRIPTION:Tule tee näpud saviseks saviringis!\nOodatud on nii algajad kui ka need\, kes on saviga juba varasemalt kokku puutunud.\n\nPane end kirja siin!
URL:https://www.tallitydrukud.ee/syndmus/saviring-tusaris-3/
LOCATION:Saviring\, Mardi\, Tusari küla\, Lääne-Nigula vald\, Läänemaa\, 91112\, Eesti
CATEGORIES:Saviring
ATTACH;FMTTYPE=image/jpeg:https://tallitydrukud.ee/wp-content/uploads/2024/03/kairit_keraamika_saviring.jpg
ORGANIZER;CN="Kairit Errit":MAILTO:info@kairitkeraamika.ee
END:VEVENT
END:VCALENDAR